BEGIN:VCALENDAR
VERSION:2.0
PRODID:-//Lambeth Food Project - ECPv6.15.20//NONSGML v1.0//EN
CALSCALE:GREGORIAN
METHOD:PUBLISH
X-ORIGINAL-URL:https://lambethfoodpartnership.org
X-WR-CALDESC:Events for Lambeth Food Project
REFRESH-INTERVAL;VALUE=DURATION:PT1H
X-Robots-Tag:noindex
X-PUBLISHED-TTL:PT1H
BEGIN:VTIMEZONE
TZID:Europe/London
BEGIN:DAYLIGHT
TZOFFSETFROM:+0000
TZOFFSETTO:+0100
TZNAME:BST
DTSTART:20240331T010000
END:DAYLIGHT
BEGIN:STANDARD
TZOFFSETFROM:+0100
TZOFFSETTO:+0000
TZNAME:GMT
DTSTART:20241027T010000
END:STANDARD
BEGIN:DAYLIGHT
TZOFFSETFROM:+0000
TZOFFSETTO:+0100
TZNAME:BST
DTSTART:20250330T010000
END:DAYLIGHT
BEGIN:STANDARD
TZOFFSETFROM:+0100
TZOFFSETTO:+0000
TZNAME:GMT
DTSTART:20251026T010000
END:STANDARD
BEGIN:DAYLIGHT
TZOFFSETFROM:+0000
TZOFFSETTO:+0100
TZNAME:BST
DTSTART:20260329T010000
END:DAYLIGHT
BEGIN:STANDARD
TZOFFSETFROM:+0100
TZOFFSETTO:+0000
TZNAME:GMT
DTSTART:20261025T010000
END:STANDARD
END:VTIMEZONE
BEGIN:VEVENT
DTSTART;TZID=Europe/London:20251229T090000
DTEND;TZID=Europe/London:20251229T170000
DTSTAMP:20260425T135532
CREATED:20251202T105525Z
LAST-MODIFIED:20251209T105239Z
UID:18409-1766998800-1767027600@lambethfoodpartnership.org
SUMMARY:Lambeth’s Winter HAF Programme
DESCRIPTION:Lambeth’s Holiday Activities and Food (HAF) programme will run from 22 December to 2 January and is aimed at children and young people from Reception to Year 11 who receive benefit-related free school meals. \nA limited number of free places are also available for children who do not meet this criteria but may need additional support during the school holidays.
URL:https://lambethfoodpartnership.org/event/lambeths-winter-haf-programme-2/
END:VEVENT
BEGIN:VEVENT
DTSTART;TZID=Europe/London:20251222T090000
DTEND;TZID=Europe/London:20251222T170000
DTSTAMP:20260425T135532
CREATED:20251202T105047Z
LAST-MODIFIED:20251209T105312Z
UID:18407-1766394000-1766422800@lambethfoodpartnership.org
SUMMARY:Lambeth’s Winter HAF Programme
DESCRIPTION:Lambeth’s Holiday Activities and Food (HAF) programme will run from 22 December to 2 January and is aimed at children and young people from Reception to Year 11 who receive benefit-related free school meals. \nA limited number of free places are also available for children who do not meet this criteria but may need additional support during the school holidays.
URL:https://lambethfoodpartnership.org/event/lambeths-winter-haf-programme/
END:VEVENT
BEGIN:VEVENT
DTSTART;TZID=Europe/London:20251220T153000
DTEND;TZID=Europe/London:20251220T183000
DTSTAMP:20260425T135532
CREATED:20251129T082319Z
LAST-MODIFIED:20251129T082712Z
UID:18349-1766244600-1766255400@lambethfoodpartnership.org
SUMMARY:Christmas Carols Event
DESCRIPTION:Join us for an enchanting evening of festive fun and community spirit! \n\nLatin Choir: 3:30pm\nSteel pan concert: 4:00pm\nLongfield Choir: 5:00pm\nBonfire and spiritual chanting: 6:00pm\n\nBring your friends and family\, wrap up warm\, and enjoy the sights\, sounds\, and smells of the season. It’s the perfect way to celebrate Christmas together! \nFree entry – all are welcome!
URL:https://lambethfoodpartnership.org/event/christmas-carols-event/
LOCATION:Myatt’s Fields Park\, 24 Cormont Rd\, London\, SE5 9RF\, United Kingdom
END:VEVENT
BEGIN:VEVENT
DTSTART;TZID=Europe/London:20251220T120000
DTEND;TZID=Europe/London:20251220T170000
DTSTAMP:20260425T135532
CREATED:20251129T080221Z
LAST-MODIFIED:20251202T111150Z
UID:18363-1766232000-1766250000@lambethfoodpartnership.org
SUMMARY:Traditional Christmas Market
DESCRIPTION:Highlights include: \n\nTraditional Christmas market\, including Mulled wine\nLocal traders and entrepreneurs\nHandmade jewellery – perfect Christmas gifts\nCupcakes\, traditional warm Christmas churros\nHandmade Christmas cards\n\nIt’s the ideal way to prepare for Christmas! \nFree entry – all are welcome!
URL:https://lambethfoodpartnership.org/event/traditional-christmas-market/
LOCATION:Myatt’s Fields Park\, 24 Cormont Rd\, London\, SE5 9RF\, United Kingdom
END:VEVENT
BEGIN:VEVENT
DTSTART;TZID=Europe/London:20251218T100000
DTEND;TZID=Europe/London:20251221T154500
DTSTAMP:20260425T135532
CREATED:20251202T104243Z
LAST-MODIFIED:20251202T111203Z
UID:18405-1766052000-1766331900@lambethfoodpartnership.org
SUMMARY:BPCG Shop
DESCRIPTION:
URL:https://lambethfoodpartnership.org/event/bpcg-shop-and-herne-hill-farmers-market-stall-4/
LOCATION:Brockwell Park Community Greenhouses\, Brockwell Hall\, Brockwell Park\, London \, SE24 9BN
END:VEVENT
BEGIN:VEVENT
DTSTART;TZID=Europe/London:20251214T110000
DTEND;TZID=Europe/London:20251214T140000
DTSTAMP:20260425T135532
CREATED:20251129T084144Z
LAST-MODIFIED:20251202T111213Z
UID:18379-1765710000-1765720800@lambethfoodpartnership.org
SUMMARY:Festive Family Event
DESCRIPTION:Visit the gardens this Christmas to get in the festive mood! \nOnce again our Festive Family Event will provide a chance to celebrate Christmas without all the hustle and bustle.  Enjoy a stroll around the garden\, take part in nature-based crafts and activities\, visit Santa in our orchard grotto and enjoy a little panto. \n\nFestive garden trail | free for all\nChristmas crafts for children | a free\, drop-in activity\nFood and drinks | served 11:30am-1:30pm\nSanta’s Orchard Grotto | booking required\, click here\nFather Christmas Goes on Strike! (panto) | booking required\n\n11:00 show book here\n13:00 show book here\n\n\n\nNo ticket is required for entrance to the gardens\, for the trail and for the craft activities. Just drop by and join in the fun!
URL:https://lambethfoodpartnership.org/event/festive-family-event-2/
LOCATION:Brockwell Park Community Greenhouses\, Brockwell Hall\, Brockwell Park\, London \, SE24 9BN
END:VEVENT
BEGIN:VEVENT
DTSTART;TZID=Europe/London:20251214T100000
DTEND;TZID=Europe/London:20251214T154500
DTSTAMP:20260425T135532
CREATED:20251202T104148Z
LAST-MODIFIED:20251202T111227Z
UID:18403-1765706400-1765727100@lambethfoodpartnership.org
SUMMARY:Herne Hill Farmers Market stall
DESCRIPTION:
URL:https://lambethfoodpartnership.org/event/bpcg-shop-and-herne-hill-farmers-market-stall-3/
LOCATION:Herne Hill Market\, Railton Rd\, London\, SE24 0JN
END:VEVENT
BEGIN:VEVENT
DTSTART;TZID=Europe/London:20251213T110000
DTEND;TZID=Europe/London:20251213T140000
DTSTAMP:20260425T135532
CREATED:20251129T083351Z
LAST-MODIFIED:20251202T111237Z
UID:18371-1765623600-1765634400@lambethfoodpartnership.org
SUMMARY:Festive Family Event
DESCRIPTION:Visit the gardens this Christmas to get in the festive mood! \nOnce again our Festive Family Event will provide a chance to celebrate Christmas without all the hustle and bustle.  Enjoy a stroll around the garden\, take part in nature-based crafts and activities\, visit Santa in our orchard grotto and enjoy a little panto. \n\nFestive garden trail | free for all\nChristmas crafts for children | a free\, drop-in activity\nFood and drinks | served 11:30am-1:30pm\nSanta’s Orchard Grotto | booking required\, click here\nFather Christmas Goes on Strike! (panto) | booking required\n\n11:00 show book here\n13:00 show book here\n\n\n\nNo ticket is required for entrance to the gardens\, for the trail and for the craft activities.  Just drop by and join in the fun!
URL:https://lambethfoodpartnership.org/event/festive-family-event/
LOCATION:Brockwell Park Community Greenhouses\, Brockwell Hall\, Brockwell Park\, London \, SE24 9BN
END:VEVENT
BEGIN:VEVENT
DTSTART;TZID=Europe/London:20251212T183000
DTEND;TZID=Europe/London:20251212T210000
DTSTAMP:20260425T135532
CREATED:20251129T085622Z
LAST-MODIFIED:20251202T111248Z
UID:18389-1765564200-1765573200@lambethfoodpartnership.org
SUMMARY:Supper Club by Vee Tings
DESCRIPTION:With a thoughtfully crafted fusion menu and live poetry and song from FLOetic Lara. \nBook your ticket via Eventbrite
URL:https://lambethfoodpartnership.org/event/supper-club-by-vee-tings/
LOCATION:The Platform Cafe\, 2 Ridgway Rd\, London\, SW9 7AH
END:VEVENT
BEGIN:VEVENT
DTSTART;TZID=Europe/London:20251211T100000
DTEND;TZID=Europe/London:20251214T154500
DTSTAMP:20260425T135532
CREATED:20251202T104017Z
LAST-MODIFIED:20251202T111259Z
UID:18401-1765447200-1765727100@lambethfoodpartnership.org
SUMMARY:BPCG Shop
DESCRIPTION:
URL:https://lambethfoodpartnership.org/event/bpcg-shop-and-herne-hill-farmers-market-stall-2/
LOCATION:Brockwell Park Community Greenhouses\, Brockwell Hall\, Brockwell Park\, London \, SE24 9BN
END:VEVENT
BEGIN:VEVENT
DTSTART;TZID=Europe/London:20251207T160000
DTEND;TZID=Europe/London:20251207T183000
DTSTAMP:20260425T135532
CREATED:20251129T082617Z
LAST-MODIFIED:20251202T111311Z
UID:18372-1765123200-1765132200@lambethfoodpartnership.org
SUMMARY:Gig at the Greenhouses: Slovakian Christmas
DESCRIPTION:Get into the Christmas spirit and join us for a heartwarming afternoon of Slovak folk and sacred Christmas music\, performed by singers Petra Štefancová and Mário Jakubicka. \nVisiting from the small village of Moravany\, Slovakia\, the duo are celebrated folk singers who perform sacred songs in churches across their homeland. \nTheir rich vocal harmonies will be beautifully accompanied by cellist Nina Plapp and renowned Gypsy violinist Marian Bango\, bringing the spirit of a Slovak village Christmas to life through music. \nMulled wine\, hot chocolate and sweet treats will be available from the bar to keep you warm on this wintery afternoon.
URL:https://lambethfoodpartnership.org/event/gig-at-the-greenhouses-slovakian-christmas/
LOCATION:Brockwell Park Community Greenhouses\, Brockwell Hall\, Brockwell Park\, London \, SE24 9BN
END:VEVENT
BEGIN:VEVENT
DTSTART;TZID=Europe/London:20251207T110000
DTEND;TZID=Europe/London:20251207T140000
DTSTAMP:20260425T135532
CREATED:20251129T082032Z
LAST-MODIFIED:20251209T114600Z
UID:18368-1765105200-1765116000@lambethfoodpartnership.org
SUMMARY:Willow Christmas Decoration Workshop
DESCRIPTION:Get in the festive spirit with this special edition Willow Christmas Decoration Workshop!  \nIn this 3-hour workshop\, you will learn how to create three different willow Christmas decorations\, all suitable for hanging on a Christmas tree or around your home. \nThese decorations will be made from buff willow rods\, that is willow that has had the bark stripped off the rod leaving the willow a straw like colour. This is a lovely natural material and the workshop will show you how extremely versatile this sustainable material is! \nYou will make three different decorations designs each using different willow weaving techniques. \n\nA simple 5 pointed star\, which enables you to practice bending the willow to create the star shape.\nA Swedish star which involves a wearing technique of threading willow rods over and under each other to create a large attractive star.\nA woven spiral that involves the twisting and folding over of willow rods to form an attractive spiral shape.\n\nAt the end of the workshop\, you will have a selection of handmade Christmas decorations to take home. \nAll material and tools provided.
URL:https://lambethfoodpartnership.org/event/willow-christmas-decoration-workshop/
LOCATION:Brockwell Park Community Greenhouses\, Brockwell Hall\, Brockwell Park\, London \, SE24 9BN
END:VEVENT
BEGIN:VEVENT
DTSTART;TZID=Europe/London:20251206T140000
DTEND;TZID=Europe/London:20251206T190000
DTSTAMP:20260425T135532
CREATED:20251129T084747Z
LAST-MODIFIED:20251202T111334Z
UID:18383-1765029600-1765047600@lambethfoodpartnership.org
SUMMARY:Winter Fair
DESCRIPTION:Slade Gardens Adventure Playground is a flurry of activity as we prepare for our annual Winter Fair and our star guest. On 6 December Santa will join us in the grotto! \nWith festive music and refreshments\, free crafting and activities for the children\, plus our popular wreath making sessions it is gearing up to be a very merry day! \n 
URL:https://lambethfoodpartnership.org/event/winter-fair/
LOCATION:Slade Gardens Adventure Playground\, 73 A & B Stockwell Park Road\, London\, SW9 0DA
END:VEVENT
BEGIN:VEVENT
DTSTART;TZID=Europe/London:20251206T120000
DTEND;TZID=Europe/London:20251206T160000
DTSTAMP:20260425T135532
CREATED:20251129T085303Z
LAST-MODIFIED:20251202T111343Z
UID:18386-1765022400-1765036800@lambethfoodpartnership.org
SUMMARY:Winter Market + Affordable Wreath-making Workshop
DESCRIPTION:Loughborough Farm will be selling plants\, homemade ferments – including kombucha and kimchi – and Christmas cards\, and we’ll also be running a drop-in bulb-planting workshop.  \nUsing naturally foraged materials. Come along to craft something beautiful for the season. \nTickets are selling fast\, so book now.
URL:https://lambethfoodpartnership.org/event/winter-market-affordable-wreath-making-workshop/
LOCATION:Loughborough Farm\, London\, SW9 7XD
END:VEVENT
BEGIN:VEVENT
DTSTART;TZID=Europe/London:20251204T100000
DTEND;TZID=Europe/London:20251207T154500
DTSTAMP:20260425T135532
CREATED:20251202T103920Z
LAST-MODIFIED:20251202T111354Z
UID:18399-1764842400-1765122300@lambethfoodpartnership.org
SUMMARY:BPCG Shop
DESCRIPTION:
URL:https://lambethfoodpartnership.org/event/bpcg-shop-and-herne-hill-farmers-market-stall/
LOCATION:Brockwell Park Community Greenhouses\, Brockwell Hall\, Brockwell Park\, London \, SE24 9BN
END:VEVENT
END:VCALENDAR